BEGIN:VCALENDAR
VERSION:2.0
PRODID:-//Ms Collins - staging - ECPv6.6.3//NONSGML v1.0//EN
CALSCALE:GREGORIAN
METHOD:PUBLISH
X-ORIGINAL-URL:https://staging.mscollins.com.au
X-WR-CALDESC:Events for Ms Collins - staging
REFRESH-INTERVAL;VALUE=DURATION:PT1H
X-Robots-Tag:noindex
X-PUBLISHED-TTL:PT1H
BEGIN:VTIMEZONE
TZID:Australia/Melbourne
BEGIN:STANDARD
TZOFFSETFROM:+1100
TZOFFSETTO:+1000
TZNAME:AEST
DTSTART:20230401T160000
END:STANDARD
BEGIN:DAYLIGHT
TZOFFSETFROM:+1000
TZOFFSETTO:+1100
TZNAME:AEDT
DTSTART:20230930T160000
END:DAYLIGHT
END:VTIMEZONE
BEGIN:VEVENT
DTSTART;TZID=Australia/Melbourne:20230428T080000
DTEND;TZID=Australia/Melbourne:20230428T170000
DTSTAMP:20260426T050321
CREATED:20230908T115644Z
LAST-MODIFIED:20240908T115746Z
UID:12972-1682668800-1682701200@staging.mscollins.com.au
SUMMARY:Ms Collins Fridays Presents – OT Genasis performing Live
DESCRIPTION:Australia’s number one Friday night keeps getting bigger 🔥 \nOT Genasis performs live at Ms Collins including his hits Cut It and Coco \nFor bookings and booths for this Friday and the next head to the link in our bio. @mscollinsmelb #MsCollins
URL:https://staging.mscollins.com.au/event/ms-collins-fridays-presents-ot-genasis-performing-live/
LOCATION:Victoria
ATTACH;FMTTYPE=image/png:https://staging.mscollins.com.au/wp-content/uploads/2024/09/Screenshot-2023-04-19-at-1.51.47-pm.png
END:VEVENT
END:VCALENDAR