BEGIN:VCALENDAR
VERSION:2.0
PRODID:-//Ms Collins - staging - ECPv6.6.3//NONSGML v1.0//EN
CALSCALE:GREGORIAN
METHOD:PUBLISH
X-ORIGINAL-URL:https://staging.mscollins.com.au
X-WR-CALDESC:Events for Ms Collins - staging
REFRESH-INTERVAL;VALUE=DURATION:PT1H
X-Robots-Tag:noindex
X-PUBLISHED-TTL:PT1H
BEGIN:VTIMEZONE
TZID:Australia/Melbourne
BEGIN:STANDARD
TZOFFSETFROM:+1100
TZOFFSETTO:+1000
TZNAME:AEST
DTSTART:20230401T160000
END:STANDARD
BEGIN:DAYLIGHT
TZOFFSETFROM:+1000
TZOFFSETTO:+1100
TZNAME:AEDT
DTSTART:20230930T160000
END:DAYLIGHT
END:VTIMEZONE
BEGIN:VEVENT
DTSTART;TZID=Australia/Melbourne:20230611T080000
DTEND;TZID=Australia/Melbourne:20230611T170000
DTSTAMP:20260426T014009
CREATED:20230908T115917Z
LAST-MODIFIED:20240908T120057Z
UID:12978-1686470400-1686502800@staging.mscollins.com.au
SUMMARY:One Night Stand – Kings Bday Eve
DESCRIPTION:One Night Stand | Sunday 11 June | Kings Birthday Eve \nFor our first ever Kings Birthday\, Ms Collins is partnering with the team behind CQ Saturdays to bring you an amazing edition of One Night Stand. \nSo grab your Queens and party like Kings at Melbournes no.1 Destination. \nPurchase Tickets Here \nBook a Booth Here
URL:https://staging.mscollins.com.au/event/one-night-stand-kings-bday-eve/
LOCATION:Victoria
ATTACH;FMTTYPE=image/png:https://staging.mscollins.com.au/wp-content/uploads/2024/09/Screenshot-2023-05-31-at-12.52.53-pm.png
END:VEVENT
END:VCALENDAR