BEGIN:VCALENDAR
VERSION:2.0
PRODID:-//Ms Collins - staging - ECPv6.6.3//NONSGML v1.0//EN
CALSCALE:GREGORIAN
METHOD:PUBLISH
X-ORIGINAL-URL:https://staging.mscollins.com.au
X-WR-CALDESC:Events for Ms Collins - staging
REFRESH-INTERVAL;VALUE=DURATION:PT1H
X-Robots-Tag:noindex
X-PUBLISHED-TTL:PT1H
BEGIN:VTIMEZONE
TZID:Australia/Melbourne
BEGIN:STANDARD
TZOFFSETFROM:+1100
TZOFFSETTO:+1000
TZNAME:AEST
DTSTART:20240406T160000
END:STANDARD
BEGIN:DAYLIGHT
TZOFFSETFROM:+1000
TZOFFSETTO:+1100
TZNAME:AEDT
DTSTART:20241005T160000
END:DAYLIGHT
END:VTIMEZONE
BEGIN:VEVENT
DTSTART;TZID=Australia/Melbourne:20240328T200000
DTEND;TZID=Australia/Melbourne:20240328T200000
DTSTAMP:20260425T115338
CREATED:20230907T142204Z
LAST-MODIFIED:20240907T142229Z
UID:12856-1711656000-1711656000@staging.mscollins.com.au
SUMMARY:TROMBA BAD BUNNY WONDERLAND EASTER THURSDAY – Presented by Patrón Tequila
DESCRIPTION:Join us at Tromba Latin Fiesta \nBAD BUNNY WONDERLAND – Presented by Patrón Tequila\non Thursday 28th March 2024 \n[Easter Thursday] \nPre-purchase tickets to receive priority entry on the night.\nTickets will also be available at the door but be early or miss out! \nNO DANCE CLASSES on Thursday 28th March 2024.\n[Classes will resume the following week on Thursday 4th April 2024] \nTROMBA LATIN FIESTA at MS COLLINS \n★★★★★★★★★★★★★★★★★★★★ \nPurchase Tickets Here \nFor VIP BOOTH PACKAGES with personalised waitress please click the following link: \nhttps://www.eventbrite.com.au/e/tromba-bad-bunny-wonderland-easter-thurs-ms-collins-vip-booth-packages-tickets-856714144067?aff=erelexpmlt \nMS COLLINS – 425 COLLINS STREET\, MELBOURNE
URL:https://staging.mscollins.com.au/event/tromba-bad-bunny-wonderland-easter-thursday-presented-by-patron-tequila/
LOCATION:Victoria
ATTACH;FMTTYPE=image/jpeg:https://staging.mscollins.com.au/wp-content/uploads/2024/09/received_397022932971720.jpeg
END:VEVENT
END:VCALENDAR