BEGIN:VCALENDAR
VERSION:2.0
PRODID:-//Ms Collins - staging - ECPv6.6.3//NONSGML v1.0//EN
CALSCALE:GREGORIAN
METHOD:PUBLISH
X-WR-CALNAME:Ms Collins - staging
X-ORIGINAL-URL:https://staging.mscollins.com.au
X-WR-CALDESC:Events for Ms Collins - staging
REFRESH-INTERVAL;VALUE=DURATION:PT1H
X-Robots-Tag:noindex
X-PUBLISHED-TTL:PT1H
BEGIN:VTIMEZONE
TZID:UTC
BEGIN:STANDARD
TZOFFSETFROM:+0000
TZOFFSETTO:+0000
TZNAME:UTC
DTSTART:20240101T000000
END:STANDARD
TZID:Australia/Melbourne
BEGIN:STANDARD
TZOFFSETFROM:+1100
TZOFFSETTO:+1000
TZNAME:AEST
DTSTART:20190406T160000
END:STANDARD
BEGIN:DAYLIGHT
TZOFFSETFROM:+1000
TZOFFSETTO:+1100
TZNAME:AEDT
DTSTART:20191005T160000
END:DAYLIGHT
BEGIN:STANDARD
TZOFFSETFROM:+1100
TZOFFSETTO:+1000
TZNAME:AEST
DTSTART:20200404T160000
END:STANDARD
BEGIN:DAYLIGHT
TZOFFSETFROM:+1000
TZOFFSETTO:+1100
TZNAME:AEDT
DTSTART:20201003T160000
END:DAYLIGHT
BEGIN:STANDARD
TZOFFSETFROM:+1100
TZOFFSETTO:+1000
TZNAME:AEST
DTSTART:20210403T160000
END:STANDARD
BEGIN:DAYLIGHT
TZOFFSETFROM:+1000
TZOFFSETTO:+1100
TZNAME:AEDT
DTSTART:20211002T160000
END:DAYLIGHT
BEGIN:STANDARD
TZOFFSETFROM:+1100
TZOFFSETTO:+1000
TZNAME:AEST
DTSTART:20220402T160000
END:STANDARD
BEGIN:DAYLIGHT
TZOFFSETFROM:+1000
TZOFFSETTO:+1100
TZNAME:AEDT
DTSTART:20221001T160000
END:DAYLIGHT
BEGIN:STANDARD
TZOFFSETFROM:+1100
TZOFFSETTO:+1000
TZNAME:AEST
DTSTART:20230401T160000
END:STANDARD
BEGIN:DAYLIGHT
TZOFFSETFROM:+1000
TZOFFSETTO:+1100
TZNAME:AEDT
DTSTART:20230930T160000
END:DAYLIGHT
BEGIN:STANDARD
TZOFFSETFROM:+1100
TZOFFSETTO:+1000
TZNAME:AEST
DTSTART:20240406T160000
END:STANDARD
BEGIN:DAYLIGHT
TZOFFSETFROM:+1000
TZOFFSETTO:+1100
TZNAME:AEDT
DTSTART:20241005T160000
END:DAYLIGHT
END:VTIMEZONE
BEGIN:VEVENT
DTSTART;TZID=UTC:20241104T210000
DTEND;TZID=UTC:20241104T210000
DTSTAMP:20260422T120432
CREATED:20240814T045930Z
LAST-MODIFIED:20240814T050519Z
UID:11908-1730754000-1730754000@staging.mscollins.com.au
SUMMARY:CLUB SIGMA - Melbourne Cup Eve
DESCRIPTION:text goes here.
URL:https://staging.mscollins.com.au/event/club-sigma-melbourne-cup-eve/
LOCATION:Ms Collins\, Melbourne\, Victoria\, 3000\, Australia
ATTACH;FMTTYPE=image/jpeg:https://staging.mscollins.com.au/wp-content/uploads/2024/08/Sea_Party_Ibiza_Essentialibiza2016_by_tamara_sini-001.jpg
END:VEVENT
BEGIN:VEVENT
DTSTART;TZID=Australia/Melbourne:20240426T210000
DTEND;TZID=Australia/Melbourne:20240426T210000
DTSTAMP:20260422T120432
CREATED:20230907T142530Z
LAST-MODIFIED:20240907T142601Z
UID:12862-1714165200-1714165200@staging.mscollins.com.au
SUMMARY:Lil Pump Hosts Ms Collins Fridays
DESCRIPTION:I love it!!! \nLil Pump hosts Ms Collins Friday. With hits including the iconic “Gucci Gang” and “I love it” Lil Pump promises to have the ladies twerking and the crowd singing along to his club anthems \nProudly presented by Belvedere 10 and 808 Agency \n  \nPurchase Tickets Here \nBooth Package Enquiries Here
URL:https://staging.mscollins.com.au/event/lil-pump-hosts-ms-collins-fridays/
LOCATION:Victoria
ATTACH;FMTTYPE=image/jpeg:https://staging.mscollins.com.au/wp-content/uploads/2024/09/https___cdn.evbuc_.com_images_748521669_245490436643_1_original.jpeg
END:VEVENT
BEGIN:VEVENT
DTSTART;TZID=Australia/Melbourne:20240329T210000
DTEND;TZID=Australia/Melbourne:20240330T050000
DTSTAMP:20260422T120432
CREATED:20230907T142236Z
LAST-MODIFIED:20240907T142456Z
UID:12859-1711746000-1711774800@staging.mscollins.com.au
SUMMARY:Souled Out Fest – Official After Party Hosted by Bryson Tiller – Presented by Patrón Tequila
DESCRIPTION:Get Ready to Ignite Your Soul at Souled Out – The Official Afterparty!\n🌟 The stars have aligned for an unforgettable night\, as MsCollins becomes the beating heart of the city on March 29\, 2024. Brace yourselves for an epic evening where vibes\, soul\, and rhythm fuse seamlessly at the Souled Out Official After Party\, hosted by none other than the smooth operator himself\, Bryson Tiller! 🌙✨ \nDon’t Miss Out on The Night of Nights!\nThis isn’t just another afterparty; it’s a rendezvous for the soulful at heart\, a gathering for the groovers\, a night where you become the beat. Mark your calendars for March 29\, 2024\, and be ready to blend into the rhythm and soul of the legendary Souled Out afterparty at MsCollins. 🎉 \nTickets are flying\, and the buzz is building. Secure your spot on the dancefloor and be a part of the most electrifying afterparty this city has ever seen! 🎟✨ \nSee You There!\nDoors Open from 8pm – Tickets Available at the Door\nBooths Available from 9:30pm\nFor VIP Booth Package Enquiries\, click the following link:\nhttp://mgl.io/8L7OZ
URL:https://staging.mscollins.com.au/event/souled-out-fest-official-after-party-hosted-by-bryson-tiller-presented-by-patron-tequila/
LOCATION:Victoria
ATTACH;FMTTYPE=image/png:https://staging.mscollins.com.au/wp-content/uploads/2024/09/Screen-Shot-2024-03-26-at-12.35.43-pm.png
END:VEVENT
BEGIN:VEVENT
DTSTART;TZID=Australia/Melbourne:20240328T200000
DTEND;TZID=Australia/Melbourne:20240328T200000
DTSTAMP:20260422T120432
CREATED:20230907T142204Z
LAST-MODIFIED:20240907T142229Z
UID:12856-1711656000-1711656000@staging.mscollins.com.au
SUMMARY:TROMBA BAD BUNNY WONDERLAND EASTER THURSDAY – Presented by Patrón Tequila
DESCRIPTION:Join us at Tromba Latin Fiesta \nBAD BUNNY WONDERLAND – Presented by Patrón Tequila\non Thursday 28th March 2024 \n[Easter Thursday] \nPre-purchase tickets to receive priority entry on the night.\nTickets will also be available at the door but be early or miss out! \nNO DANCE CLASSES on Thursday 28th March 2024.\n[Classes will resume the following week on Thursday 4th April 2024] \nTROMBA LATIN FIESTA at MS COLLINS \n★★★★★★★★★★★★★★★★★★★★ \nPurchase Tickets Here \nFor VIP BOOTH PACKAGES with personalised waitress please click the following link: \nhttps://www.eventbrite.com.au/e/tromba-bad-bunny-wonderland-easter-thurs-ms-collins-vip-booth-packages-tickets-856714144067?aff=erelexpmlt \nMS COLLINS – 425 COLLINS STREET\, MELBOURNE
URL:https://staging.mscollins.com.au/event/tromba-bad-bunny-wonderland-easter-thursday-presented-by-patron-tequila/
LOCATION:Victoria
ATTACH;FMTTYPE=image/jpeg:https://staging.mscollins.com.au/wp-content/uploads/2024/09/received_397022932971720.jpeg
END:VEVENT
BEGIN:VEVENT
DTSTART;TZID=Australia/Melbourne:20240324T200000
DTEND;TZID=Australia/Melbourne:20240324T200000
DTSTAMP:20260422T120432
CREATED:20230907T142058Z
LAST-MODIFIED:20240907T142106Z
UID:12853-1711310400-1711310400@staging.mscollins.com.au
SUMMARY:7th GP Drivers After Party – Presented by Patrón Tequila
DESCRIPTION:Unleash The Thrill\, Embrace the Night! Gear up for an extraordinary evening that captures the essence of the Grand Prix atmosphere in Melbourne – a fusion of speed\, style\, and unparalleled entertainment. Encompassing the most talented racing drivers on the planet from various motorsport genres and showcasing international DJs\, dancers\, entertainment and one night that truly personifies a high octane atmosphere as an experience like no other. The 7th GP Drivers After Party awaits\, promising a ride into the heart of racing glory! \nOn the starting grid (DJ decks): John Course\, Discovery – Daft Punk Tribute\, DJ Admin\, Kitty Kat and more. \n  \nPurchase Tickets Here \nBooth Enquiries Email: hithere@mscollins.com.au
URL:https://staging.mscollins.com.au/event/7th-gp-drivers-after-party-presented-by-patron-tequila/
LOCATION:Victoria
ATTACH;FMTTYPE=image/jpeg:https://staging.mscollins.com.au/wp-content/uploads/2024/09/gpaftgerparty.jpg
END:VEVENT
BEGIN:VEVENT
DTSTART;TZID=Australia/Melbourne:20240112T210000
DTEND;TZID=Australia/Melbourne:20240112T210000
DTSTAMP:20260422T120432
CREATED:20230907T141834Z
LAST-MODIFIED:20240907T141947Z
UID:12850-1705093200-1705093200@staging.mscollins.com.au
SUMMARY:T-Pain Hosts Ms Collins Fridays
DESCRIPTION:Grammy Award winning artist T-Pain Hosts Ms Collins Fridays \nWith hits including Booty Wurk\, All I do is win\, Buy you a Drank\, Bar Tender and Up Down\, T-Pain is bringing the fire to kick start Ms Collins 2024 Campaign as the official Juicyfest afterparty destination \nProudly presented by Don Julio 1942 and 808 Agency \nPurchase Tickets Here
URL:https://staging.mscollins.com.au/event/t-pain-hosts-ms-collins-fridays/
LOCATION:Victoria
ATTACH;FMTTYPE=image/png:https://staging.mscollins.com.au/wp-content/uploads/2023/09/Screen-Shot-2024-01-12-at-4.23.00-pm.png
END:VEVENT
BEGIN:VEVENT
DTSTART;TZID=Australia/Melbourne:20231231T210000
DTEND;TZID=Australia/Melbourne:20240101T050000
DTSTAMP:20260422T120432
CREATED:20230907T141702Z
LAST-MODIFIED:20240907T141804Z
UID:12847-1704056400-1704085200@staging.mscollins.com.au
SUMMARY:TROMBA NYE
DESCRIPTION:For the first time Australia’s favourite Latin night presents… \nTROMBA LATIN FIESTA – NEW YEARS EVE 2023/24 at MS COLLINS \nImmerse yourself in a Latin New Year’s Eve experience full of amazing colour\, energy & rhythms. \nINDOOR FIREWORKS DISPLAY // COSTUMED PERFORMERS // LATIN DANCERS // PERCUSSIONISTS // FIRE TWIRLERS + MUCH MORE \nMAIN ROOM: LATIN / REGGEATON / BACHATA / SALSA\nROOM 2: AFROBEAT / LATIN HOUSE / TECH HOUSE \nPurchase Tickets Here
URL:https://staging.mscollins.com.au/event/tromba-nye/
LOCATION:Victoria
ATTACH;FMTTYPE=image/jpeg:https://staging.mscollins.com.au/wp-content/uploads/2024/09/0ddb8ff5-8ed8-41fd-a43a-f3510aaaa694.jpeg
END:VEVENT
BEGIN:VEVENT
DTSTART;TZID=Australia/Melbourne:20231203T210000
DTEND;TZID=Australia/Melbourne:20231203T210000
DTSTAMP:20260422T120432
CREATED:20230907T141237Z
LAST-MODIFIED:20240907T141638Z
UID:12844-1701637200-1701637200@staging.mscollins.com.au
SUMMARY:FRANCIS KWAMEE SUMMER ESCAPADE FASHION SHOW @ MS COLLINS
DESCRIPTION:Inviting you and your friends to the launch of our SUMMER 2023 COLLECTION / MENS & WOMENS WEAR – FASHION SHOW / PARTY @ MS COLLINS.\n‘’ a collection featuring our trademark black wear with a mixture of colour ” …….\nAn evening of style and grace – fashion – food – music – art – music and amazing soul’s in the mix in a great venue – MS COLLINS. \nBOOK A BOOTH FOR YOU & YOUR FRIENDS ….. Get looked after by a HOSTESS for the evening. For BOOTH Details : email Francis Kwamee : franciskwamee@gmail.com \nDRESS CODE : LADIES ” Fabulous ” / GENTS ” Cocktail Flair ” ( no casual wear / no denim / no runners ) \nEach guest will receive a complimentary KWAMEE PRINTED T’SHIRT & KWAMEE LIMITED EDITION MAGAZINE. \nPurchase Tickets Here
URL:https://staging.mscollins.com.au/event/francis-kwamee-summer-escapade-fashion-show-ms-collins/
LOCATION:Victoria
ATTACH;FMTTYPE=image/png:https://staging.mscollins.com.au/wp-content/uploads/2024/09/Screenshot-2023-09-27-at-10.28.42-am.png
END:VEVENT
BEGIN:VEVENT
DTSTART;TZID=Australia/Melbourne:20231110T210000
DTEND;TZID=Australia/Melbourne:20231110T210000
DTSTAMP:20260422T120432
CREATED:20230907T141220Z
LAST-MODIFIED:20240907T141228Z
UID:12841-1699650000-1699650000@staging.mscollins.com.au
SUMMARY:Fridayz Live Official After Party
DESCRIPTION:After the show it’s the after party Ms Collins Fridays and Hennessy proudly hosts the Stars from Fridayz Live. \n  \nTickets Available via Eventbrite
URL:https://staging.mscollins.com.au/event/fridayz-live-official-after-party/
LOCATION:Victoria
ATTACH;FMTTYPE=image/png:https://staging.mscollins.com.au/wp-content/uploads/2024/09/Screen-Shot-2023-11-16-at-11.12.32-am.png
END:VEVENT
BEGIN:VEVENT
DTSTART;TZID=Australia/Melbourne:20231020T210000
DTEND;TZID=Australia/Melbourne:20231020T210000
DTSTAMP:20260422T120432
CREATED:20230907T140935Z
LAST-MODIFIED:20240907T141105Z
UID:12837-1697835600-1697835600@staging.mscollins.com.au
SUMMARY:Lil Tjay Hosts Ms Collins Fridays
DESCRIPTION:Lil Tjay is hosting Melbourne’s no.1 Celebrity Spot – Ms Collins Fridays \n\n\n\n  \nTickets Available via Eventbrite
URL:https://staging.mscollins.com.au/event/lil-tjay-hosts-ms-collins-fridays/
LOCATION:Victoria
ATTACH;FMTTYPE=image/png:https://staging.mscollins.com.au/wp-content/uploads/2024/09/Screen-Shot-2023-11-16-at-11.16.51-am.png
END:VEVENT
BEGIN:VEVENT
DTSTART;TZID=Australia/Melbourne:20230930T080000
DTEND;TZID=Australia/Melbourne:20230930T170000
DTSTAMP:20260422T120432
CREATED:20230908T120426Z
LAST-MODIFIED:20240908T120434Z
UID:12987-1696060800-1696093200@staging.mscollins.com.au
SUMMARY:BLXST @ Ms Collins Fridays
DESCRIPTION:Up and coming R&B super star BLXST is hosting at Melbournes undisputed home of the Celebrity – Ms Collins Fridays\nWith hits including OVERRATED\, BE ALONE\, ABOUT YOU\, CHOSEN and recent collaboration with Chris Brown SHOW IT this promises to be another amazing night\nBe one of the CHOSEN ones and get up close and personal with the one of the future icons of R&B at Ms Collins Fridays\nTickets available at eventbrite\nhttps://www.eventbrite.com.au/…/blxst-hosts-ms-collins…\nProudly presented by Hennessy and 808 Agency
URL:https://staging.mscollins.com.au/event/blxst-ms-collins-fridays/
LOCATION:Victoria
ATTACH;FMTTYPE=image/jpeg:https://staging.mscollins.com.au/wp-content/uploads/2024/09/306557611_2046152525569455_98531429959845960_n-1.jpeg
END:VEVENT
BEGIN:VEVENT
DTSTART;TZID=Australia/Melbourne:20230928T200000
DTEND;TZID=Australia/Melbourne:20230928T200000
DTSTAMP:20260422T120432
CREATED:20230907T140635Z
LAST-MODIFIED:20240907T140749Z
UID:12833-1695931200-1695931200@staging.mscollins.com.au
SUMMARY:TROMBA LATIN FIESTA PRIMAVERA LATIN FIESTA
DESCRIPTION:LIMITED TICKETS AVAILABLE ON THE DOOR – \nPLEASE ARRIVE EARLY TO AVOID MISSING OUT !!!! \nJoin us at Tromba Latin Fiesta’s Primavera Latin Fiesta Party \non Thursday 28th September 2023 [Grand Final Public Holiday Eve] \nOur biggest night of the year!!! \nPre-purchase tickets to receive priority entry on the night. \nLink to Tickets \nBook a Booth Here
URL:https://staging.mscollins.com.au/event/tromba-latin-fiesta-primavera-latin-fiesta/
LOCATION:Victoria
ATTACH;FMTTYPE=image/png:https://staging.mscollins.com.au/wp-content/uploads/2024/09/Screenshot-2023-09-14-at-1.48.38-pm.png
END:VEVENT
BEGIN:VEVENT
DTSTART;TZID=Australia/Melbourne:20230826T080000
DTEND;TZID=Australia/Melbourne:20230826T170000
DTSTAMP:20260422T120432
CREATED:20230908T120330Z
LAST-MODIFIED:20240908T120336Z
UID:12984-1693036800-1693069200@staging.mscollins.com.au
SUMMARY:Ms Collins Fridays Presents – Kid Ink
DESCRIPTION:Australia’s number one Friday night keeps getting bigger 🔥 \nGrammy Award winning R&B Superstar Kid Ink hosts Ms Collins – 26.08.22 it’s going to be as hot as the last ones! \n♥️ Doors open 9PM \nFor bookings and booths for this Friday and the next head to the link in our bio. @mscollinsmelb #MsCollins
URL:https://staging.mscollins.com.au/event/ms-collins-fridays-presents-kid-ink/
LOCATION:Victoria
ATTACH;FMTTYPE=image/png:https://staging.mscollins.com.au/wp-content/uploads/2024/09/Screenshot-2023-03-15-at-3.09.03-pm.png
END:VEVENT
BEGIN:VEVENT
DTSTART;TZID=Australia/Melbourne:20230729T080000
DTEND;TZID=Australia/Melbourne:20230729T170000
DTSTAMP:20260422T120432
CREATED:20230908T120234Z
LAST-MODIFIED:20240908T120240Z
UID:12981-1690617600-1690650000@staging.mscollins.com.au
SUMMARY:Jack Harlow hosts Ms Collins Friday
DESCRIPTION:Ms Collins Fridays | Fri 29 July \n• Hosted by JACK HARLOW • \nOne of the world biggest artists Jack Harlow is hosting Ms Collins this Friday. \nThe “First Class” super star will be up close and personal at Melbourne’s number one Friday night. \n425 Collins Street Melbourne
URL:https://staging.mscollins.com.au/event/jack-harlow-hosts-ms-collins-friday/
LOCATION:Victoria
ATTACH;FMTTYPE=image/png:https://staging.mscollins.com.au/wp-content/uploads/2024/09/Screenshot-2023-03-15-at-3.23.06-pm-1.png
END:VEVENT
BEGIN:VEVENT
DTSTART;TZID=Australia/Melbourne:20230611T080000
DTEND;TZID=Australia/Melbourne:20230611T170000
DTSTAMP:20260422T120432
CREATED:20230908T115917Z
LAST-MODIFIED:20240908T120057Z
UID:12978-1686470400-1686502800@staging.mscollins.com.au
SUMMARY:One Night Stand – Kings Bday Eve
DESCRIPTION:One Night Stand | Sunday 11 June | Kings Birthday Eve \nFor our first ever Kings Birthday\, Ms Collins is partnering with the team behind CQ Saturdays to bring you an amazing edition of One Night Stand. \nSo grab your Queens and party like Kings at Melbournes no.1 Destination. \nPurchase Tickets Here \nBook a Booth Here
URL:https://staging.mscollins.com.au/event/one-night-stand-kings-bday-eve/
LOCATION:Victoria
ATTACH;FMTTYPE=image/png:https://staging.mscollins.com.au/wp-content/uploads/2024/09/Screenshot-2023-05-31-at-12.52.53-pm.png
END:VEVENT
BEGIN:VEVENT
DTSTART;TZID=Australia/Melbourne:20230505T080000
DTEND;TZID=Australia/Melbourne:20230505T170000
DTSTAMP:20260422T120432
CREATED:20230908T115815Z
LAST-MODIFIED:20240908T115859Z
UID:12975-1683273600-1683306000@staging.mscollins.com.au
SUMMARY:Ms Collins Fridays Presents – CJ performing Live
DESCRIPTION:Australia’s number one Friday night keeps getting bigger 🔥 \nUp & Coming RnB Star CJ will be performing including is hit song “Whoopty”
URL:https://staging.mscollins.com.au/event/ms-collins-fridays-presents-cj-performing-live/
LOCATION:Victoria
ATTACH;FMTTYPE=image/png:https://staging.mscollins.com.au/wp-content/uploads/2024/09/Screenshot-2023-05-04-at-12.19.30-pm-1.png
END:VEVENT
BEGIN:VEVENT
DTSTART;TZID=Australia/Melbourne:20230428T080000
DTEND;TZID=Australia/Melbourne:20230428T170000
DTSTAMP:20260422T120432
CREATED:20230908T115644Z
LAST-MODIFIED:20240908T115746Z
UID:12972-1682668800-1682701200@staging.mscollins.com.au
SUMMARY:Ms Collins Fridays Presents – OT Genasis performing Live
DESCRIPTION:Australia’s number one Friday night keeps getting bigger 🔥 \nOT Genasis performs live at Ms Collins including his hits Cut It and Coco \nFor bookings and booths for this Friday and the next head to the link in our bio. @mscollinsmelb #MsCollins
URL:https://staging.mscollins.com.au/event/ms-collins-fridays-presents-ot-genasis-performing-live/
LOCATION:Victoria
ATTACH;FMTTYPE=image/png:https://staging.mscollins.com.au/wp-content/uploads/2024/09/Screenshot-2023-04-19-at-1.51.47-pm.png
END:VEVENT
BEGIN:VEVENT
DTSTART;TZID=Australia/Melbourne:20230421T080000
DTEND;TZID=Australia/Melbourne:20230421T170000
DTSTAMP:20260422T120432
CREATED:20230908T115619Z
LAST-MODIFIED:20240908T115625Z
UID:12969-1682064000-1682096400@staging.mscollins.com.au
SUMMARY:Ms Collins Fridays Presents – SL Official afterparty
DESCRIPTION:Australia’s number one Friday night keeps getting bigger 🔥 \nUp & Coming RnB Star SL will be hosting his official afterparty at Melboournes no.1 celebrity spot. SL’s hits include “Tropical” – this promises ro be yet another memorable night. \nFor bookings and booths for this Friday and the next head to the link in our bio. @mscollinsmelb #MsCollins
URL:https://staging.mscollins.com.au/event/ms-collins-fridays-presents-sl-official-afterparty/
LOCATION:Victoria
ATTACH;FMTTYPE=image/png:https://staging.mscollins.com.au/wp-content/uploads/2024/09/Screenshot-2023-04-19-at-1.51.20-pm.png
END:VEVENT
BEGIN:VEVENT
DTSTART;TZID=Australia/Melbourne:20230406T080000
DTEND;TZID=Australia/Melbourne:20230406T170000
DTSTAMP:20260422T120432
CREATED:20230908T115417Z
LAST-MODIFIED:20240908T115436Z
UID:12966-1680768000-1680800400@staging.mscollins.com.au
SUMMARY:TROMBA LATIN FIESTA BAD BUNNY MANSION EASTER THURSDAY
DESCRIPTION:Join us at Tromba Latin Fiesta’s Bad Bunny Mansion Party \non Easter Thursday 6th April 2023. \nOur biggest night of the year!!! \nPre-purchase tickets to receive priority entry on the night. \nTickets will also be available at the door but be early or miss out!
URL:https://staging.mscollins.com.au/event/tromba-latin-fiesta-bad-bunny-mansion-easter-thursday/
LOCATION:Victoria
ATTACH;FMTTYPE=image/png:https://staging.mscollins.com.au/wp-content/uploads/2024/09/Screenshot-2023-03-21-at-4.54.41-pm-1.png
END:VEVENT
BEGIN:VEVENT
DTSTART;TZID=Australia/Melbourne:20230402T200000
DTEND;TZID=Australia/Melbourne:20230403T050000
DTSTAMP:20260422T120432
CREATED:20230908T115302Z
LAST-MODIFIED:20240908T115308Z
UID:12963-1680465600-1680498000@staging.mscollins.com.au
SUMMARY:MELBOURNE GP DRIVERS AFTER PARTY
DESCRIPTION:Tickets via myguestlist.
URL:https://staging.mscollins.com.au/event/melbourne-gp-drivers-after-party/
LOCATION:Victoria
ATTACH;FMTTYPE=image/jpeg:https://staging.mscollins.com.au/wp-content/uploads/2024/09/PHOTO-2023-03-21-16-02-42.jpg
END:VEVENT
BEGIN:VEVENT
DTSTART;TZID=Australia/Melbourne:20230127T200000
DTEND;TZID=Australia/Melbourne:20230128T050000
DTSTAMP:20260422T120432
CREATED:20230908T115105Z
LAST-MODIFIED:20240908T115117Z
UID:12960-1674849600-1674882000@staging.mscollins.com.au
SUMMARY:Kehlani Hosts Ms Collins Fridays
DESCRIPTION:R&B superstar and style Icon Kehlani is hosting at Melbournes undisputed home of the Celebrity – Ms Collins Fridays – Proudly presented by Belvedere \nWith hits including Good Things\, \,Gangsta\, Good life and The Way and Up at Night\, this promises to be another amazing night \nCome live the GOOD LIFE and get up close and personal with the one of the future icons of R&B at Ms Collins Fridays
URL:https://staging.mscollins.com.au/event/kehlani-hosts-ms-collins-fridays/
LOCATION:Victoria
ATTACH;FMTTYPE=image/png:https://staging.mscollins.com.au/wp-content/uploads/2024/09/Screenshot-2023-03-15-at-2.44.49-pm.png
END:VEVENT
BEGIN:VEVENT
DTSTART;TZID=Australia/Melbourne:20221031T080000
DTEND;TZID=Australia/Melbourne:20221031T170000
DTSTAMP:20260422T120432
CREATED:20220908T120536Z
LAST-MODIFIED:20240908T120543Z
UID:12990-1667203200-1667235600@staging.mscollins.com.au
SUMMARY:YG @ Ms Collins
DESCRIPTION:This Long Weekend YG is hosting his Official After Party at Ms Collins.\nCome and have a One Night Stand with Hottest Girl in Town @ Melbourne’s No.1 Celebrity Hot Spot.\nFor tickets and booths visit www.mscollins.com.au/yg\n🔥 *WIN A VIP EXPERIENCE WITH YG* 🔥\nSimply tag your friend in the comments below to enter. Each comment with a unique tag equals one entry.\n– 2 x Tickets to his Melbourne Show\n– 2 x Tickets to Ms Collins After Party\n– Personal Photo with YG\n– $100 gift voucher\nEntries close 6pm Sunday 30th October. Winner will be immediately drawn and notified.
URL:https://staging.mscollins.com.au/event/yg-ms-collins/
LOCATION:Victoria
ATTACH;FMTTYPE=image/jpeg:https://staging.mscollins.com.au/wp-content/uploads/2024/09/313260451_10158980754886794_7147411179101535015_n-1.jpeg
END:VEVENT
BEGIN:VEVENT
DTSTART;TZID=Australia/Melbourne:20190802T080000
DTEND;TZID=Australia/Melbourne:20190802T170000
DTSTAMP:20260422T120432
CREATED:20190908T120637Z
LAST-MODIFIED:20240908T120645Z
UID:12993-1564732800-1564765200@staging.mscollins.com.au
SUMMARY:Nelly @ Ms Collins Fridays
DESCRIPTION:It’s Getting Hot In Herre 🔥\nMs Collins Fridays Hosted By Nelly | Friday Feb 8\nThe American rapper\, singer\, songwriter & entrepreneur is here the house for one night only to host a HOT Phat Friday!\nThe man behind hits such as Hot in Herre \, Dilemma (featuring Kelly Rowland) and Ride Wit Me will be taking over the night\, so be there or be square 🙌\nPhat Fridays – No.1 Celebrity Hotspot\nDoor entry: $30\nCLUB\nFrom 9pm\, Ms Collins opens her doors to the finest in party RnB. �\nResident DJs B-love / Ostrom / The One / ESG / Crystal Cartier / Sandry / Cherry Love and more.\n#BOOTHLYF\nVIP booth bookings available for the best seat in the house. Packages include Dom Perignon\, Veuve Clicquot\, Belvedere\, door entry\, your own personal hostess and more.\nEnquire: info@mscollins.com.au\nBIRTHDAYS\nBirthday groups and packages also welcome. Birthday packages include; Free entry for birthday guest and two friends\, drink card\, a round of shots and a detox & retox gift from Ms Collins.\nTo register your birthday with Phat Fridays premium retox & detox birthday packages\, click here https://bit.ly/2FN3cfN and enter your details
URL:https://staging.mscollins.com.au/event/nelly-ms-collins-fridays/
LOCATION:Victoria
ATTACH;FMTTYPE=image/jpeg:https://staging.mscollins.com.au/wp-content/uploads/2024/09/50620578_1040754686109249_4713334588515024896_n.jpeg
END:VEVENT
END:VCALENDAR