BEGIN:VCALENDAR
VERSION:2.0
PRODID:-//Ms Collins - staging - ECPv6.6.3//NONSGML v1.0//EN
CALSCALE:GREGORIAN
METHOD:PUBLISH
X-ORIGINAL-URL:https://staging.mscollins.com.au
X-WR-CALDESC:Events for Ms Collins - staging
REFRESH-INTERVAL;VALUE=DURATION:PT1H
X-Robots-Tag:noindex
X-PUBLISHED-TTL:PT1H
BEGIN:VTIMEZONE
TZID:Australia/Melbourne
BEGIN:STANDARD
TZOFFSETFROM:+1100
TZOFFSETTO:+1000
TZNAME:AEST
DTSTART:20240406T160000
END:STANDARD
BEGIN:DAYLIGHT
TZOFFSETFROM:+1000
TZOFFSETTO:+1100
TZNAME:AEDT
DTSTART:20241005T160000
END:DAYLIGHT
TZID:UTC
BEGIN:STANDARD
TZOFFSETFROM:+0000
TZOFFSETTO:+0000
TZNAME:UTC
DTSTART:20240101T000000
END:STANDARD
END:VTIMEZONE
BEGIN:VEVENT
DTSTART;TZID=Australia/Melbourne:20240426T210000
DTEND;TZID=Australia/Melbourne:20240426T210000
DTSTAMP:20260425T222823
CREATED:20230907T142530Z
LAST-MODIFIED:20240907T142601Z
UID:12862-1714165200-1714165200@staging.mscollins.com.au
SUMMARY:Lil Pump Hosts Ms Collins Fridays
DESCRIPTION:I love it!!! \nLil Pump hosts Ms Collins Friday. With hits including the iconic “Gucci Gang” and “I love it” Lil Pump promises to have the ladies twerking and the crowd singing along to his club anthems \nProudly presented by Belvedere 10 and 808 Agency \n  \nPurchase Tickets Here \nBooth Package Enquiries Here
URL:https://staging.mscollins.com.au/event/lil-pump-hosts-ms-collins-fridays/
LOCATION:Victoria
ATTACH;FMTTYPE=image/jpeg:https://staging.mscollins.com.au/wp-content/uploads/2024/09/https___cdn.evbuc_.com_images_748521669_245490436643_1_original.jpeg
END:VEVENT
BEGIN:VEVENT
DTSTART;TZID=UTC:20241104T210000
DTEND;TZID=UTC:20241104T210000
DTSTAMP:20260425T222823
CREATED:20240814T045930Z
LAST-MODIFIED:20240814T050519Z
UID:11908-1730754000-1730754000@staging.mscollins.com.au
SUMMARY:CLUB SIGMA - Melbourne Cup Eve
DESCRIPTION:text goes here.
URL:https://staging.mscollins.com.au/event/club-sigma-melbourne-cup-eve/
LOCATION:Ms Collins\, Melbourne\, Victoria\, 3000\, Australia
ATTACH;FMTTYPE=image/jpeg:https://staging.mscollins.com.au/wp-content/uploads/2024/08/Sea_Party_Ibiza_Essentialibiza2016_by_tamara_sini-001.jpg
END:VEVENT
END:VCALENDAR