BEGIN:VCALENDAR
VERSION:2.0
PRODID:-//Ms Collins - staging - ECPv6.6.3//NONSGML v1.0//EN
CALSCALE:GREGORIAN
METHOD:PUBLISH
X-WR-CALNAME:Ms Collins - staging
X-ORIGINAL-URL:https://staging.mscollins.com.au
X-WR-CALDESC:Events for Ms Collins - staging
REFRESH-INTERVAL;VALUE=DURATION:PT1H
X-Robots-Tag:noindex
X-PUBLISHED-TTL:PT1H
BEGIN:VTIMEZONE
TZID:Australia/Melbourne
BEGIN:STANDARD
TZOFFSETFROM:+1100
TZOFFSETTO:+1000
TZNAME:AEST
DTSTART:20190406T160000
END:STANDARD
BEGIN:DAYLIGHT
TZOFFSETFROM:+1000
TZOFFSETTO:+1100
TZNAME:AEDT
DTSTART:20191005T160000
END:DAYLIGHT
BEGIN:STANDARD
TZOFFSETFROM:+1100
TZOFFSETTO:+1000
TZNAME:AEST
DTSTART:20200404T160000
END:STANDARD
BEGIN:DAYLIGHT
TZOFFSETFROM:+1000
TZOFFSETTO:+1100
TZNAME:AEDT
DTSTART:20201003T160000
END:DAYLIGHT
BEGIN:STANDARD
TZOFFSETFROM:+1100
TZOFFSETTO:+1000
TZNAME:AEST
DTSTART:20210403T160000
END:STANDARD
BEGIN:DAYLIGHT
TZOFFSETFROM:+1000
TZOFFSETTO:+1100
TZNAME:AEDT
DTSTART:20211002T160000
END:DAYLIGHT
BEGIN:STANDARD
TZOFFSETFROM:+1100
TZOFFSETTO:+1000
TZNAME:AEST
DTSTART:20220402T160000
END:STANDARD
BEGIN:DAYLIGHT
TZOFFSETFROM:+1000
TZOFFSETTO:+1100
TZNAME:AEDT
DTSTART:20221001T160000
END:DAYLIGHT
END:VTIMEZONE
BEGIN:VEVENT
DTSTART;TZID=Australia/Melbourne:20221031T080000
DTEND;TZID=Australia/Melbourne:20221031T170000
DTSTAMP:20260426T001435
CREATED:20220908T120536Z
LAST-MODIFIED:20240908T120543Z
UID:12990-1667203200-1667235600@staging.mscollins.com.au
SUMMARY:YG @ Ms Collins
DESCRIPTION:This Long Weekend YG is hosting his Official After Party at Ms Collins.\nCome and have a One Night Stand with Hottest Girl in Town @ Melbourne’s No.1 Celebrity Hot Spot.\nFor tickets and booths visit www.mscollins.com.au/yg\n🔥 *WIN A VIP EXPERIENCE WITH YG* 🔥\nSimply tag your friend in the comments below to enter. Each comment with a unique tag equals one entry.\n– 2 x Tickets to his Melbourne Show\n– 2 x Tickets to Ms Collins After Party\n– Personal Photo with YG\n– $100 gift voucher\nEntries close 6pm Sunday 30th October. Winner will be immediately drawn and notified.
URL:https://staging.mscollins.com.au/event/yg-ms-collins/
ATTACH;FMTTYPE=image/jpeg:https://staging.mscollins.com.au/wp-content/uploads/2024/09/313260451_10158980754886794_7147411179101535015_n-1.jpeg
END:VEVENT
BEGIN:VEVENT
DTSTART;TZID=Australia/Melbourne:20190802T080000
DTEND;TZID=Australia/Melbourne:20190802T170000
DTSTAMP:20260426T001435
CREATED:20190908T120637Z
LAST-MODIFIED:20240908T120645Z
UID:12993-1564732800-1564765200@staging.mscollins.com.au
SUMMARY:Nelly @ Ms Collins Fridays
DESCRIPTION:It’s Getting Hot In Herre 🔥\nMs Collins Fridays Hosted By Nelly | Friday Feb 8\nThe American rapper\, singer\, songwriter & entrepreneur is here the house for one night only to host a HOT Phat Friday!\nThe man behind hits such as Hot in Herre \, Dilemma (featuring Kelly Rowland) and Ride Wit Me will be taking over the night\, so be there or be square 🙌\nPhat Fridays – No.1 Celebrity Hotspot\nDoor entry: $30\nCLUB\nFrom 9pm\, Ms Collins opens her doors to the finest in party RnB. �\nResident DJs B-love / Ostrom / The One / ESG / Crystal Cartier / Sandry / Cherry Love and more.\n#BOOTHLYF\nVIP booth bookings available for the best seat in the house. Packages include Dom Perignon\, Veuve Clicquot\, Belvedere\, door entry\, your own personal hostess and more.\nEnquire: info@mscollins.com.au\nBIRTHDAYS\nBirthday groups and packages also welcome. Birthday packages include; Free entry for birthday guest and two friends\, drink card\, a round of shots and a detox & retox gift from Ms Collins.\nTo register your birthday with Phat Fridays premium retox & detox birthday packages\, click here https://bit.ly/2FN3cfN and enter your details
URL:https://staging.mscollins.com.au/event/nelly-ms-collins-fridays/
ATTACH;FMTTYPE=image/jpeg:https://staging.mscollins.com.au/wp-content/uploads/2024/09/50620578_1040754686109249_4713334588515024896_n.jpeg
END:VEVENT
END:VCALENDAR