BEGIN:VCALENDAR
VERSION:2.0
PRODID:-//Ms Collins - staging - ECPv6.6.3//NONSGML v1.0//EN
CALSCALE:GREGORIAN
METHOD:PUBLISH
X-WR-CALNAME:Ms Collins - staging
X-ORIGINAL-URL:https://staging.mscollins.com.au
X-WR-CALDESC:Events for Ms Collins - staging
REFRESH-INTERVAL;VALUE=DURATION:PT1H
X-Robots-Tag:noindex
X-PUBLISHED-TTL:PT1H
BEGIN:VTIMEZONE
TZID:Australia/Melbourne
BEGIN:STANDARD
TZOFFSETFROM:+1100
TZOFFSETTO:+1000
TZNAME:AEST
DTSTART:20230401T160000
END:STANDARD
BEGIN:DAYLIGHT
TZOFFSETFROM:+1000
TZOFFSETTO:+1100
TZNAME:AEDT
DTSTART:20230930T160000
END:DAYLIGHT
END:VTIMEZONE
BEGIN:VEVENT
DTSTART;TZID=Australia/Melbourne:20230127T200000
DTEND;TZID=Australia/Melbourne:20230128T050000
DTSTAMP:20260426T082547
CREATED:20230908T115105Z
LAST-MODIFIED:20240908T115117Z
UID:12960-1674849600-1674882000@staging.mscollins.com.au
SUMMARY:Kehlani Hosts Ms Collins Fridays
DESCRIPTION:R&B superstar and style Icon Kehlani is hosting at Melbournes undisputed home of the Celebrity – Ms Collins Fridays – Proudly presented by Belvedere \nWith hits including Good Things\, \,Gangsta\, Good life and The Way and Up at Night\, this promises to be another amazing night \nCome live the GOOD LIFE and get up close and personal with the one of the future icons of R&B at Ms Collins Fridays
URL:https://staging.mscollins.com.au/event/kehlani-hosts-ms-collins-fridays/
LOCATION:Victoria
ATTACH;FMTTYPE=image/png:https://staging.mscollins.com.au/wp-content/uploads/2024/09/Screenshot-2023-03-15-at-2.44.49-pm.png
END:VEVENT
END:VCALENDAR