BEGIN:VCALENDAR
VERSION:2.0
PRODID:-//Ms Collins - staging - ECPv6.6.3//NONSGML v1.0//EN
CALSCALE:GREGORIAN
METHOD:PUBLISH
X-WR-CALNAME:Ms Collins - staging
X-ORIGINAL-URL:https://staging.mscollins.com.au
X-WR-CALDESC:Events for Ms Collins - staging
REFRESH-INTERVAL;VALUE=DURATION:PT1H
X-Robots-Tag:noindex
X-PUBLISHED-TTL:PT1H
BEGIN:VTIMEZONE
TZID:Australia/Melbourne
BEGIN:STANDARD
TZOFFSETFROM:+1100
TZOFFSETTO:+1000
TZNAME:AEST
DTSTART:20230401T160000
END:STANDARD
BEGIN:DAYLIGHT
TZOFFSETFROM:+1000
TZOFFSETTO:+1100
TZNAME:AEDT
DTSTART:20230930T160000
END:DAYLIGHT
END:VTIMEZONE
BEGIN:VEVENT
DTSTART;TZID=Australia/Melbourne:20230826T080000
DTEND;TZID=Australia/Melbourne:20230826T170000
DTSTAMP:20260425T205402
CREATED:20230908T120330Z
LAST-MODIFIED:20240908T120336Z
UID:12984-1693036800-1693069200@staging.mscollins.com.au
SUMMARY:Ms Collins Fridays Presents – Kid Ink
DESCRIPTION:Australia’s number one Friday night keeps getting bigger 🔥 \nGrammy Award winning R&B Superstar Kid Ink hosts Ms Collins – 26.08.22 it’s going to be as hot as the last ones! \n♥️ Doors open 9PM \nFor bookings and booths for this Friday and the next head to the link in our bio. @mscollinsmelb #MsCollins
URL:https://staging.mscollins.com.au/event/ms-collins-fridays-presents-kid-ink/
LOCATION:Victoria
ATTACH;FMTTYPE=image/png:https://staging.mscollins.com.au/wp-content/uploads/2024/09/Screenshot-2023-03-15-at-3.09.03-pm.png
END:VEVENT
END:VCALENDAR